BEGIN:VCALENDAR
VERSION:2.0
PRODID:-//AED/SNC-IHEDN - ECPv6.15.20//NONSGML v1.0//EN
CALSCALE:GREGORIAN
METHOD:PUBLISH
X-WR-CALNAME:AED/SNC-IHEDN
X-ORIGINAL-URL:https://aed-ihedn.fr
X-WR-CALDESC:Évènements pour AED/SNC-IHEDN
REFRESH-INTERVAL;VALUE=DURATION:PT1H
X-Robots-Tag:noindex
X-PUBLISHED-TTL:PT1H
BEGIN:VTIMEZONE
TZID:Europe/Paris
BEGIN:DAYLIGHT
TZOFFSETFROM:+0100
TZOFFSETTO:+0200
TZNAME:CEST
DTSTART:20210328T010000
END:DAYLIGHT
BEGIN:STANDARD
TZOFFSETFROM:+0200
TZOFFSETTO:+0100
TZNAME:CET
DTSTART:20211031T010000
END:STANDARD
BEGIN:DAYLIGHT
TZOFFSETFROM:+0100
TZOFFSETTO:+0200
TZNAME:CEST
DTSTART:20220327T010000
END:DAYLIGHT
BEGIN:STANDARD
TZOFFSETFROM:+0200
TZOFFSETTO:+0100
TZNAME:CET
DTSTART:20221030T010000
END:STANDARD
BEGIN:DAYLIGHT
TZOFFSETFROM:+0100
TZOFFSETTO:+0200
TZNAME:CEST
DTSTART:20230326T010000
END:DAYLIGHT
BEGIN:STANDARD
TZOFFSETFROM:+0200
TZOFFSETTO:+0100
TZNAME:CET
DTSTART:20231029T010000
END:STANDARD
END:VTIMEZONE
BEGIN:VEVENT
DTSTART;VALUE=DATE:20220927
DTEND;VALUE=DATE:20220929
DTSTAMP:20260423T133445
CREATED:20220726T075036Z
LAST-MODIFIED:20230129T210555Z
UID:8176-1664236800-1664409599@aed-ihedn.fr
SUMMARY:Rencontres stratégiques de la Méditerranée (RSMED)
DESCRIPTION:3AED-IHEDN est heureuse de vous annoncer son partenariat avec l’Institut FMES\, dans le cadre de la première édition\ndes Rencontres stratégiques de la Méditerranée ! \nQuand ?\nLes 27 et 28 septembre 2022 \nOù ?\nAu palais Neptune\, à Toulon \nA quel tarif ?\nL’entrée est gratuite\, mais l’inscription obligatoire. \n\n \n  \n\n  \n 
URL:https://aed-ihedn.fr/event/rencontres-strategiques-de-la-mediterranee-rsmed/
LOCATION:Palais Neptune\, Toulon\, 83000\, France
CATEGORIES:Partenaires
ATTACH;FMTTYPE=image/png:https://aed-ihedn.fr/wp-content/uploads/2022/07/Capture-decran-2022-07-26-a-10.49.39-1.png
END:VEVENT
END:VCALENDAR