BEGIN:VCALENDAR
VERSION:2.0
PRODID:-//AED/SNC-IHEDN - ECPv6.15.20//NONSGML v1.0//EN
CALSCALE:GREGORIAN
METHOD:PUBLISH
X-WR-CALNAME:AED/SNC-IHEDN
X-ORIGINAL-URL:https://aed-ihedn.fr
X-WR-CALDESC:Évènements pour AED/SNC-IHEDN
REFRESH-INTERVAL;VALUE=DURATION:PT1H
X-Robots-Tag:noindex
X-PUBLISHED-TTL:PT1H
BEGIN:VTIMEZONE
TZID:Europe/Paris
BEGIN:DAYLIGHT
TZOFFSETFROM:+0100
TZOFFSETTO:+0200
TZNAME:CEST
DTSTART:20210328T010000
END:DAYLIGHT
BEGIN:STANDARD
TZOFFSETFROM:+0200
TZOFFSETTO:+0100
TZNAME:CET
DTSTART:20211031T010000
END:STANDARD
BEGIN:DAYLIGHT
TZOFFSETFROM:+0100
TZOFFSETTO:+0200
TZNAME:CEST
DTSTART:20220327T010000
END:DAYLIGHT
BEGIN:STANDARD
TZOFFSETFROM:+0200
TZOFFSETTO:+0100
TZNAME:CET
DTSTART:20221030T010000
END:STANDARD
BEGIN:DAYLIGHT
TZOFFSETFROM:+0100
TZOFFSETTO:+0200
TZNAME:CEST
DTSTART:20230326T010000
END:DAYLIGHT
BEGIN:STANDARD
TZOFFSETFROM:+0200
TZOFFSETTO:+0100
TZNAME:CET
DTSTART:20231029T010000
END:STANDARD
END:VTIMEZONE
BEGIN:VEVENT
DTSTART;TZID=Europe/Paris:20221012T103000
DTEND;TZID=Europe/Paris:20221012T190000
DTSTAMP:20260423T133445
CREATED:20221003T123617Z
LAST-MODIFIED:20221003T123617Z
UID:11711-1665570600-1665601200@aed-ihedn.fr
SUMMARY:Journée d'étude : L’héritage intellectuel de Thérèse Delpech (1948-2012)
DESCRIPTION:Le Centre interdisciplinaire d’étude sur le nucléaire et la stratégie de l’Ecole normale supérieure de Paris organise une journée d’étude sur l’héritage intellectuel de Thérèse Delpech (1948-2012)\, ancienne normalienne\, directrice de la prospective au Commissariat à l’Energie Atomique ainsi que philosophe\, soucieuse d’éviter un « ensauvagement du monde ». \nMercredi 12 octobre 2022\n10h30 à 19h00\nCampus Jourdan de l’Ecole normale supérieure. \nS'INSCRIRE \n  \n\nÀ propos de cet évènement\n\n\n\n\n10h45 Café d’accueil \n11h30 Introduction  \n11h40 Table ronde 1 : Regards croisés sur la trajectoire intellectuelle de Thérèse Delpech \nModération : Mélanie Rosselet – Centre interdisciplinaire d’études sur le nucléaire et la stratégie \n\nJean-Vincent Holeindre – Université Paris-Panthéon Assas / IRSEM\nAriel Levite – Carnegie Endowment for International Peace\nGeorge Perkovich – Carnegie Endowment for International Peace\n\nRegards croisés sur Thérèse Delpech\, son parcours professionnel et intellectuel\, la réception critique de son œuvre à l’étranger\, ses filiations intellectuelles – éléments de sociologie intellectuelle. \n13h10 Déjeuner-buffet \n14h15 Présentation : « L’ensauvagement » comme concept philosophique \nPerrine Simon-Nahum – ENS-UIm \nQuelle est la place de l’irrationnel en philosophie politique ? Quel rapport entretient-elle avec la violence ? Originalité et utilisation de ce concept dans le cadre d’une réflexion stratégique. \n15h Table ronde 2 : Thérèse Delpech et la question des crises nucléaires  \nModération : Tiphaine de Champchesnel – IRSEM \n\nHéloïse Fayet – Institut français des relations internationales\nAndreas Lutsch – Institut für Geschichte\nDominique Mongin – Ecole Normale Supérieure-UIm (Centre Interdisciplinaire d’Etudes sur le Nucléaire et la Stratégie)\n\nUtilité de son œuvre pour comprendre les bouleversements stratégiques actuels et passés : retour de la guerre de haute intensité sur le sol européen après l’invasion de l’Ukraine\, menaces nucléaires\, émergence de puissances asiatiques\, le cas particulier de l’Iran – comment ses grands concepts peuvent être mobilisés aujourd’hui : démission des nations\, politique du chaos\, barbarie dans les relations internationales. \n16h10 Pause-café  \n16h20 Table ronde 2 (suite): Thérèse Delpech et la question des crises nucléaires – l’Asie \nModération : Corentin Brustlein – Direction Générale des relations internationales et de la stratégie \n\nChung Min Lee – Carnegie Endowment for International Peace\nBrad Roberts – Lawrence Livermore National Laboratory\nRakesh Sood – Observer Research Foundation\n\n17h30 Conclusion : Quid du renouvellement des études stratégiques au XXIème siècle? \n\nBruno Tertrais – Fondation pour la Recherche Stratégique\nCorentin Brustlein – Direction Générale des relations internationales et de la stratégie\n\nExiste-t-il une culture stratégique et de dissuasion commune aujourd’hui ? Comment éviter un désarmement intellectuel sur les enjeux stratégiques ? \n18h15 Fin de la journée d’études \n\n\n\n  \nNous espérons vous y retrouver nombreux.
URL:https://aed-ihedn.fr/event/heritage-intellectuel-therese-delpech/
LOCATION:Campus Jourdan de l’Ecole normale supérieure\, 48 Bd Jourdan\, Paris\, 75014
CATEGORIES:Partenaires
ATTACH;FMTTYPE=image/webp:https://aed-ihedn.fr/wp-content/uploads/2022/10/https-cdn.evbuc_.com-images-359683719-527406448869-1-original.20220922-223419.webp
END:VEVENT
END:VCALENDAR