BEGIN:VCALENDAR
VERSION:2.0
PRODID:-//AED/SNC-IHEDN - ECPv6.15.20//NONSGML v1.0//EN
CALSCALE:GREGORIAN
METHOD:PUBLISH
X-ORIGINAL-URL:https://aed-ihedn.fr
X-WR-CALDESC:Évènements pour AED/SNC-IHEDN
REFRESH-INTERVAL;VALUE=DURATION:PT1H
X-Robots-Tag:noindex
X-PUBLISHED-TTL:PT1H
BEGIN:VTIMEZONE
TZID:Europe/Paris
BEGIN:DAYLIGHT
TZOFFSETFROM:+0100
TZOFFSETTO:+0200
TZNAME:CEST
DTSTART:20210328T010000
END:DAYLIGHT
BEGIN:STANDARD
TZOFFSETFROM:+0200
TZOFFSETTO:+0100
TZNAME:CET
DTSTART:20211031T010000
END:STANDARD
BEGIN:DAYLIGHT
TZOFFSETFROM:+0100
TZOFFSETTO:+0200
TZNAME:CEST
DTSTART:20220327T010000
END:DAYLIGHT
BEGIN:STANDARD
TZOFFSETFROM:+0200
TZOFFSETTO:+0100
TZNAME:CET
DTSTART:20221030T010000
END:STANDARD
BEGIN:DAYLIGHT
TZOFFSETFROM:+0100
TZOFFSETTO:+0200
TZNAME:CEST
DTSTART:20230326T010000
END:DAYLIGHT
BEGIN:STANDARD
TZOFFSETFROM:+0200
TZOFFSETTO:+0100
TZNAME:CET
DTSTART:20231029T010000
END:STANDARD
END:VTIMEZONE
BEGIN:VEVENT
DTSTART;VALUE=DATE:20221018
DTEND;VALUE=DATE:20221022
DTSTAMP:20260425T121635
CREATED:20220901T094723Z
LAST-MODIFIED:20221020T133956Z
UID:10761-1666051200-1666396799@aed-ihedn.fr
SUMMARY:Euronaval 2022 : 3AED-IHEDN sera présente
DESCRIPTION:3AED-IHEDN prépare sa venue sur le salon EURONAVAL 2022\, du 18 au 20 octobre\, à Paris Le Bourget. A cette occasion\, nous vous proposerons une conférence dédiée aux enjeux du secteur naval et maritime. \nINFORMATIONS & INSCRIPTIONS \n  \nA cette occasion\, Valérie Bertheau\, présidente de 3AED-IHEDN\, animera la table ronde « Défis environnementaux : changement climatique\, solutions durables » et interrogera les intervenants de ce panel sur les nouveaux modes de propulsions dans le monde maritime face aux nouvelles réglementations de l’Organisation Maritime Mondiale ainsi que leurs conséquences pour les armées. \nAvec la participation du CC Romain EUVRARD\, officier correspondant d’état-major au Bureau « Plans » à l’Etat-major de la Marine\, Bertrand LARS\, directeur Domaine Technique Energie de Naval Group et Yves PARLIER\, CEO de Beyond-the-Sea. La modération sera assurée par Valérie Bertheau\, présidente de 3AED-IHEDN.\n\nDe nouvelles normes entreront en vigueur en 2023 afin que les compagnies maritimes accélèrent la décarbonation de leur flotte. Actuellement\, l’objectif fixé par l’OMI est la réduction de 40% des émissions de CO2 du transport maritime mondial pour 2030.\n\nDEUX PARTIES STRUCTURENT CETTE NOUVELLE ETAPE\n\nA partir de 2023\, les compagnies maritimes devront respecter les exigences de conformité suivantes (ou le cas échéant\, mettre en œuvre les actions nécessaires) :\n\nApproche technique : Equiper les navires\, dès 2023\, de moteurs ou limiteurs de puissance permettant de réduire instantanément leurs émissions de carbone\nApproche opérationnelle : Création d’une notation pour chaque navire appelée CII (Carbon Intensity Index)classant les navires de la note A à E. La note minimum que doivent atteindre les navires est C. Si un navire est classé D ou E\, un plan de mesures correctives devra être présenté et le navire corrigé en suivant. Au bout de trois années consécutives où aucune action n’est mise en place et le navire mal noté\, ce dernier pourrait perdre les possibilités de navigation\n\nA cela s’ajoutent :\n\nL’EEXI (Energy Efficiency Index for Ships In Service)\, indice de calcul des émissions de CO2 de toute la flotte\nLe SEEMP (Ship Energy Efficient Management Plan)\, plan de gestion de l’efficacité énergétique élaboré par navire.\n\nCette nouvelle réglementation devrait accélérer une transformation de la flotte marchande déjà en cours (modification des systèmes de propulsion\, des carburants utilisés etc) mais aussi toute l’activité navale (de la construction au démantèlement) ainsi que celle des ports qui accueillent les navires (infrastructures\, taux d’occupation). Les marines d’état peuvent-elles rester à l’écart de cette transformation\, comment est-elle susceptible d’influencer les opérations maritime\, l’évolution des systèmes de propulsion ?
URL:https://aed-ihedn.fr/event/euronaval-2022-3aed-ihedn-sera-presente/
LOCATION:Parc des expositions Paris Le Bourget\, Carrefour Charles Lindbergh\, Le Bourget\, 93350\, France
CATEGORIES:Partenaires
ATTACH;FMTTYPE=image/jpeg:https://aed-ihedn.fr/wp-content/uploads/2022/09/275490171_5148045375258838_519388724802659675_n.jpg
END:VEVENT
BEGIN:VEVENT
DTSTART;TZID=Europe/Paris:20221020T200000
DTEND;TZID=Europe/Paris:20221020T223000
DTSTAMP:20260425T121635
CREATED:20220905T103541Z
LAST-MODIFIED:20220920T111207Z
UID:10774-1666296000-1666305000@aed-ihedn.fr
SUMMARY:Dîner de l’AED au Sénat
DESCRIPTION:Dîner d’accueil\nde la 59ème majeure Armement & Économie de Défense de l’IHEDN \nle jeudi 20 octobre à 19h15\ndans les Salons de Boffrand de la Présidence du Sénat\, 15 ter rue de Vaugirard\, Paris 6e \nSous le marrainage de la sénatrice Hélène Conway-Mouret \nS'INSCRIRE \nClôture des inscriptions le 13 octobre à 22h00. \n  \nLe 20 octobre prochain\, 3AED-IHEDN organise le dîner annuel de l’AED\, permettant d’accueillir la nouvelle session AED de l’IHEDN et de tisser des liens durables avec les auditeurs des sessions précédentes. \nCette année\, ce dîner sera placé sous le marrainage de la sénatrice Hélène Conway-Mouret. \nInformations pratiques :\n\nParticipation : 70 €.\nLes auditeurs de la 59eme majeure AED de la session nationale IHEDN sont invités et leur conjoint sont bienvenus avec participation.\nLe règlement s’effectue en ligne\, via HelloAsso (➡️ inscriptions). Clôture des inscriptions le 13 octobre à 22h00.\nPour des raisons de sécurité propres aux lieux\, les accès feront l’objet d’un contrôle de sécurité et ne seront possibles qu’entre 18h45 et 19h45.  Merci de vous munir d’une pièce d’identité.
URL:https://aed-ihedn.fr/event/diner-aed-senat-2022/
LOCATION:Sénat\, Palais du Luxembourg 15\, rue de Vaugirard\, PARIS Cedex 06\, 75291\, France
CATEGORIES:Communauté
ATTACH;FMTTYPE=image/png:https://aed-ihedn.fr/wp-content/uploads/2022/09/3AED-IHEDN-Agenda-2.png
ORGANIZER;CN="AED-IHEDN":MAILTO:communication@aed-ihedn.fr
END:VEVENT
END:VCALENDAR