BEGIN:VCALENDAR
VERSION:2.0
PRODID:-//AED/SNC-IHEDN - ECPv6.15.20//NONSGML v1.0//EN
CALSCALE:GREGORIAN
METHOD:PUBLISH
X-ORIGINAL-URL:https://aed-ihedn.fr
X-WR-CALDESC:Évènements pour AED/SNC-IHEDN
REFRESH-INTERVAL;VALUE=DURATION:PT1H
X-Robots-Tag:noindex
X-PUBLISHED-TTL:PT1H
BEGIN:VTIMEZONE
TZID:Europe/Paris
BEGIN:DAYLIGHT
TZOFFSETFROM:+0100
TZOFFSETTO:+0200
TZNAME:CEST
DTSTART:20210328T010000
END:DAYLIGHT
BEGIN:STANDARD
TZOFFSETFROM:+0200
TZOFFSETTO:+0100
TZNAME:CET
DTSTART:20211031T010000
END:STANDARD
BEGIN:DAYLIGHT
TZOFFSETFROM:+0100
TZOFFSETTO:+0200
TZNAME:CEST
DTSTART:20220327T010000
END:DAYLIGHT
BEGIN:STANDARD
TZOFFSETFROM:+0200
TZOFFSETTO:+0100
TZNAME:CET
DTSTART:20221030T010000
END:STANDARD
BEGIN:DAYLIGHT
TZOFFSETFROM:+0100
TZOFFSETTO:+0200
TZNAME:CEST
DTSTART:20230326T010000
END:DAYLIGHT
BEGIN:STANDARD
TZOFFSETFROM:+0200
TZOFFSETTO:+0100
TZNAME:CET
DTSTART:20231029T010000
END:STANDARD
END:VTIMEZONE
BEGIN:VEVENT
DTSTART;TZID=Europe/Paris:20221201T180000
DTEND;TZID=Europe/Paris:20221201T220000
DTSTAMP:20260425T151602
CREATED:20220902T185846Z
LAST-MODIFIED:20221122T111554Z
UID:10778-1669917600-1669932000@aed-ihedn.fr
SUMMARY:Happy Hours de l’AED
DESCRIPTION:Happy Hours de l’AED\n\nJeudi 1er décembre 2022\nÀ 18h00\n \n* Evénement hybride\, ouvert à la communauté 3AED-IHEDN *\n➡️  Modalités de connexion transmises par email aux inscrits. \n  \n3AED-IHEDN organise les Happy Hours de l’AED\, un événement hybride durant lequel la communauté IHEDN se retrouve. \nL’objectif de cette rencontre est de permettre aux auditeurs de la 58e session nationale Armement & économie de défense de l’IHEDN (1ère nouvelle Session nationale) de restituer leurs travaux de comité dans un cadre convivial. \nLe 1er décembre\, deux comités présenteront leurs travaux : \n\nLe comité 3 : « Résilience de l’outil de défense face aux vulnérabilités d’approvisionnement »\, par Geoffroy Lenglin ;\nLe comité 5 : « Résilience aux aléas dans la conduite des programmes en coopération »\, par Emeline Martin et Philippe Koffi.\n\nLes thématiques d’études de l’année 2021-2022 : \n\nComité 1 : Résilience de la BITD dans un contexte d’espacement temporel des programmes d’armement\nComité 2 : Résilience de la BITD face aux nouveaux entrants\nComité 3 : Résilience de l’outil de défense face aux vulnérabilités d’approvisionnement\nComité 4 : Résilience et adaptabilité dans le temps des systèmes d’armes innovants\nComité 5 : Résilience aux aléas dans la conduite des programmes en coopération\n\nPour la 59e session qui vient d’entamer son cycle à l’IHEDN\, ce moment est une opportunité de partage et de rencontres.
URL:https://aed-ihedn.fr/event/happy-hours-aed/
LOCATION:En ligne
CATEGORIES:Communauté
ATTACH;FMTTYPE=image/png:https://aed-ihedn.fr/wp-content/uploads/2022/09/3AED-IHEDN-Agenda.png
ORGANIZER;CN="AED-IHEDN":MAILTO:communication@aed-ihedn.fr
END:VEVENT
END:VCALENDAR