BEGIN:VCALENDAR
VERSION:2.0
PRODID:-//AED/SNC-IHEDN - ECPv6.15.20//NONSGML v1.0//EN
CALSCALE:GREGORIAN
METHOD:PUBLISH
X-WR-CALNAME:AED/SNC-IHEDN
X-ORIGINAL-URL:https://aed-ihedn.fr
X-WR-CALDESC:Évènements pour AED/SNC-IHEDN
REFRESH-INTERVAL;VALUE=DURATION:PT1H
X-Robots-Tag:noindex
X-PUBLISHED-TTL:PT1H
BEGIN:VTIMEZONE
TZID:Europe/Paris
BEGIN:DAYLIGHT
TZOFFSETFROM:+0100
TZOFFSETTO:+0200
TZNAME:CEST
DTSTART:20220327T010000
END:DAYLIGHT
BEGIN:STANDARD
TZOFFSETFROM:+0200
TZOFFSETTO:+0100
TZNAME:CET
DTSTART:20221030T010000
END:STANDARD
BEGIN:DAYLIGHT
TZOFFSETFROM:+0100
TZOFFSETTO:+0200
TZNAME:CEST
DTSTART:20230326T010000
END:DAYLIGHT
BEGIN:STANDARD
TZOFFSETFROM:+0200
TZOFFSETTO:+0100
TZNAME:CET
DTSTART:20231029T010000
END:STANDARD
BEGIN:DAYLIGHT
TZOFFSETFROM:+0100
TZOFFSETTO:+0200
TZNAME:CEST
DTSTART:20240331T010000
END:DAYLIGHT
BEGIN:STANDARD
TZOFFSETFROM:+0200
TZOFFSETTO:+0100
TZNAME:CET
DTSTART:20241027T010000
END:STANDARD
END:VTIMEZONE
BEGIN:VEVENT
DTSTART;TZID=Europe/Paris:20230112T140000
DTEND;TZID=Europe/Paris:20230112T153000
DTSTAMP:20260423T135528
CREATED:20221214T133804Z
LAST-MODIFIED:20221214T134139Z
UID:13093-1673532000-1673537400@aed-ihedn.fr
SUMMARY:Visite guidée de l'Exposition Forces Spéciales
DESCRIPTION:Nous avons le plaisir de convier à une : \nVisite guidée de l’exposition « Forces Spéciales »\nau Musée de l’Armée\nLe Jeudi 12 janvier 2023\nà partir de 14:00\norganisée par 3AED-IHEDN conjointement\navec l’association des auditeurs IHEDN région Ile-de-France. \n  \nS'INSCRIRE \nClôture des inscriptions le 28 décembre à 18h00. \n  \n  \nPremière exposition jamais consacrée aux forces spéciales\, cette visite guidée d’une durée de 1H30 offre un aperçu général des coulisses d’une des entités les plus discrètes de nos armées et revient sur leur histoire et fonctionnement\, de la Seconde Guerre mondiale à nos jours. Dans une scénographie immersive et spectaculaire\, vous plongerez dans le quotidien d’hommes et de femmes aux parcours d’exception\, de la sélection à l’entraînement. L’exposition lève le voile sur leurs techniques spécifiques et leurs équipements à la pointe de l’innovation utilisés en opération. De la réalité à la fiction\, votre guide conférencier abordera également la question de représentation des forces spéciales au cinéma qui a contribué à fixer leur image dans la culture populaire et à façonner leur mythologie. \n➡️ Pour vous inscrire\, c’est ici :  INSCRIPTION \nUne participation financière de 20 euros est requise. \nLes inscriptions sont fermes et seront closes le 28 décembre 2022 à 18:00. \nNota :  \nDébut 2023\, votre billet d’accès sera communiqué par Email pour servir de contrôle d’accès au Musée. Le nombre de participants est limité à 25 personnes. Les personnes désireuses d’y participer informeront le Secrétaire Général 3AED (sec.gen@aed-ihedn.fr) pour constitution d’une liste d’attente.  Nous reviendrons vers vous\, selon les possibilités. \nDans l’attente de vous y accueillir\, nous vous souhaitons de très joyeuses fêtes de fin d’année. \n➡️ En savoir plus sur cette exposition sur le site du Musée de l’Armée.
URL:https://aed-ihedn.fr/event/visite-exposition-forces-speciales/
LOCATION:Hôtel national des Invalides\, 129\, rue de Grenelle\, Paris\, France
CATEGORIES:Visite
ATTACH;FMTTYPE=image/png:https://aed-ihedn.fr/wp-content/uploads/2022/12/3AED-IHEDN_agenda-visite-expo-FS.png
END:VEVENT
END:VCALENDAR