BEGIN:VCALENDAR
VERSION:2.0
PRODID:-//AED/SNC-IHEDN - ECPv6.15.20//NONSGML v1.0//EN
CALSCALE:GREGORIAN
METHOD:PUBLISH
X-WR-CALNAME:AED/SNC-IHEDN
X-ORIGINAL-URL:https://aed-ihedn.fr
X-WR-CALDESC:Évènements pour AED/SNC-IHEDN
REFRESH-INTERVAL;VALUE=DURATION:PT1H
X-Robots-Tag:noindex
X-PUBLISHED-TTL:PT1H
BEGIN:VTIMEZONE
TZID:Europe/Paris
BEGIN:DAYLIGHT
TZOFFSETFROM:+0100
TZOFFSETTO:+0200
TZNAME:CEST
DTSTART:20220327T010000
END:DAYLIGHT
BEGIN:STANDARD
TZOFFSETFROM:+0200
TZOFFSETTO:+0100
TZNAME:CET
DTSTART:20221030T010000
END:STANDARD
BEGIN:DAYLIGHT
TZOFFSETFROM:+0100
TZOFFSETTO:+0200
TZNAME:CEST
DTSTART:20230326T010000
END:DAYLIGHT
BEGIN:STANDARD
TZOFFSETFROM:+0200
TZOFFSETTO:+0100
TZNAME:CET
DTSTART:20231029T010000
END:STANDARD
BEGIN:DAYLIGHT
TZOFFSETFROM:+0100
TZOFFSETTO:+0200
TZNAME:CEST
DTSTART:20240331T010000
END:DAYLIGHT
BEGIN:STANDARD
TZOFFSETFROM:+0200
TZOFFSETTO:+0100
TZNAME:CET
DTSTART:20241027T010000
END:STANDARD
END:VTIMEZONE
BEGIN:VEVENT
DTSTART;TZID=Europe/Paris:20230117T183000
DTEND;TZID=Europe/Paris:20230117T200000
DTSTAMP:20260421T151747
CREATED:20230106T083331Z
LAST-MODIFIED:20230210T084039Z
UID:13556-1673980200-1673985600@aed-ihedn.fr
SUMMARY:Rendez-vous d'Athéna #1 | Présentation du programme Ariane 6
DESCRIPTION:Avec \nFrancois DENEU\nAriane 6 Programme Director \nMardi 17 janvier 2023\nà partir de 18h30 \n  \nAriane 6 est la prochaine génération de lanceur de forte capacité de l’Agence spatiale européenne (ASE-ESA). Elle a été conçue pour être lancée plus souvent\, être plus flexible et moins coûteuse que ses prédécesseurs\, tout en offrant des performances de pointe. \nAu cours de cette conférence\, nous allons vous présenter les caractéristiques clés d’Ariane 6 et son rôle dans les missions de l’ASE-ESA\, ainsi que les défis et les opportunités auxquels elle fait face. Nous discuterons également de son impact sur le secteur spatial et sur l’industrie en général. \nA propos de notre intervenant :\nFrançois Deneu est le directeur de programme du développement d’Ariane 6 pour ArianeGroup\, en charge de développer le lanceur et son système de production. Il dirige des équipes au sein d’ArianeGroupe\, qui conçoit\, spécifie\, qualifie et intègre le lanceur\, dans ses usines en France\, incluant Kourou\, et en Allemagne. Il pilote une équipe industrielle qui développe et produit des éléments majeurs du lanceur dans 13 pays européens. \nIl était précédemment le directeur de programme de développement et production de la deuxième version du missile stratégique M51 jusqu’à sa mise en service opérationnel à l’été 2016. Auparavant\, il a dirigé les programmes de défense anti-missile au sein d’Astrium\, pour le compte de la DGA et l’OTAN. \nEt précédemment\, les programmes de lanceurs futurs et de démonstrateurs en vol réutilisables\, pour le compte du CNES\, de l’ESA et du DLR. \nFrançois Deneu est un ingénieur diplômé\, ancien auditeur de l’IHEDN (session 46 « armement en économie de défense ») et de l’International Space Université. \nIl est chevalier dans l’ordre national du mérite. \nRessources :\n→ Consulter le dossier ressources.\n→ Consulter la programmation des Rendez-vous d’Athéna pour l’année 2023. \n  \n→ Votre soutien à 3AED-IHEDN est important\, n’oubliez pas de cliquer ici pour soutenir votre association : Adhérer – 3AED-IHEDN
URL:https://aed-ihedn.fr/event/rendez-vous-dathena-1-presentation-du-programme-ariane-6/
LOCATION:Ecole militaire\, Paris\, 1\, place Joffre\, Paris\, 75007\, France
CATEGORIES:Rendez-vous d'Athéna
ATTACH;FMTTYPE=image/png:https://aed-ihedn.fr/wp-content/uploads/2023/01/3AED-IHEDN_athena-1.png
ORGANIZER;CN="AED-IHEDN":MAILTO:communication@aed-ihedn.fr
END:VEVENT
END:VCALENDAR