BEGIN:VCALENDAR
VERSION:2.0
PRODID:-//AED/SNC-IHEDN - ECPv6.15.20//NONSGML v1.0//EN
CALSCALE:GREGORIAN
METHOD:PUBLISH
X-WR-CALNAME:AED/SNC-IHEDN
X-ORIGINAL-URL:https://aed-ihedn.fr
X-WR-CALDESC:Évènements pour AED/SNC-IHEDN
REFRESH-INTERVAL;VALUE=DURATION:PT1H
X-Robots-Tag:noindex
X-PUBLISHED-TTL:PT1H
BEGIN:VTIMEZONE
TZID:Europe/Paris
BEGIN:DAYLIGHT
TZOFFSETFROM:+0100
TZOFFSETTO:+0200
TZNAME:CEST
DTSTART:20240331T010000
END:DAYLIGHT
BEGIN:STANDARD
TZOFFSETFROM:+0200
TZOFFSETTO:+0100
TZNAME:CET
DTSTART:20241027T010000
END:STANDARD
BEGIN:DAYLIGHT
TZOFFSETFROM:+0100
TZOFFSETTO:+0200
TZNAME:CEST
DTSTART:20250330T010000
END:DAYLIGHT
BEGIN:STANDARD
TZOFFSETFROM:+0200
TZOFFSETTO:+0100
TZNAME:CET
DTSTART:20251026T010000
END:STANDARD
BEGIN:DAYLIGHT
TZOFFSETFROM:+0100
TZOFFSETTO:+0200
TZNAME:CEST
DTSTART:20260329T010000
END:DAYLIGHT
BEGIN:STANDARD
TZOFFSETFROM:+0200
TZOFFSETTO:+0100
TZNAME:CET
DTSTART:20261025T010000
END:STANDARD
END:VTIMEZONE
BEGIN:VEVENT
DTSTART;TZID=Europe/Paris:20250619T140000
DTEND;TZID=Europe/Paris:20250619T173000
DTSTAMP:20260421T152238
CREATED:20250515T055936Z
LAST-MODIFIED:20250519T105634Z
UID:24313-1750341600-1750354200@aed-ihedn.fr
SUMMARY:Visite du salon du Bourget 2025
DESCRIPTION:Chers camarades\, \nLa 55 ème édition du Salon a lieu au Parc des Expositions de Paris-Le Bourget du 16 au 22 juin 2025 et réunit de nouveau l’ensemble des acteurs de l’industrie mondiale autour des dernières innovations technologiques. \nNous serons pilotés par un représentant du GIFAS\, autour d’un programme précis encore à définir mais qui tournera autour des grands industriels français du domaine ; nous aurons aussi vraisemblablement la possibilité de traverser le PARIS AIR LAB (les innovations au cœur de la nouvelle révolution du transport aérien et la décarbonation)\, les start-ups membres du GIFAS ou l’AVION DES METIERS. \nLe nombre de places étant limité à 15 personnes\, seuls les plus rapides pourront être inscrits. Les inscriptions seront vraisemblablement closes fin mai. \nVous trouverez ci-après le formulaire pour votre inscription avec les informations nécessaires. Des éléments plus précis seront communiqués ultérieurement aux inscrits. \n  \nS'INSCRIRE \n  \nVotre soutien à 3AED-IHEDN est important\, n’oubliez pas de cliquer ici pour soutenir votre association : \nAdhérer – 3AED-IHEDN \nAmitiés associatives\, \nGéraud Brun\nPrésident de 3AED-IHEDN
URL:https://aed-ihedn.fr/event/visite-du-salon-du-bourget-2025/
CATEGORIES:Visite
ATTACH;FMTTYPE=image/png:https://aed-ihedn.fr/wp-content/uploads/2025/05/capture-decran-2025-05-15-a-07.54.39.png
END:VEVENT
END:VCALENDAR