BEGIN:VCALENDAR
VERSION:2.0
PRODID:-//AED/SNC-IHEDN - ECPv6.15.20//NONSGML v1.0//EN
CALSCALE:GREGORIAN
METHOD:PUBLISH
X-WR-CALNAME:AED/SNC-IHEDN
X-ORIGINAL-URL:https://aed-ihedn.fr
X-WR-CALDESC:Évènements pour AED/SNC-IHEDN
REFRESH-INTERVAL;VALUE=DURATION:PT1H
X-Robots-Tag:noindex
X-PUBLISHED-TTL:PT1H
BEGIN:VTIMEZONE
TZID:Europe/Paris
BEGIN:DAYLIGHT
TZOFFSETFROM:+0100
TZOFFSETTO:+0200
TZNAME:CEST
DTSTART:20240331T010000
END:DAYLIGHT
BEGIN:STANDARD
TZOFFSETFROM:+0200
TZOFFSETTO:+0100
TZNAME:CET
DTSTART:20241027T010000
END:STANDARD
BEGIN:DAYLIGHT
TZOFFSETFROM:+0100
TZOFFSETTO:+0200
TZNAME:CEST
DTSTART:20250330T010000
END:DAYLIGHT
BEGIN:STANDARD
TZOFFSETFROM:+0200
TZOFFSETTO:+0100
TZNAME:CET
DTSTART:20251026T010000
END:STANDARD
BEGIN:DAYLIGHT
TZOFFSETFROM:+0100
TZOFFSETTO:+0200
TZNAME:CEST
DTSTART:20260329T010000
END:DAYLIGHT
BEGIN:STANDARD
TZOFFSETFROM:+0200
TZOFFSETTO:+0100
TZNAME:CET
DTSTART:20261025T010000
END:STANDARD
END:VTIMEZONE
BEGIN:VEVENT
DTSTART;TZID=Europe/Paris:20250708T183000
DTEND;TZID=Europe/Paris:20250708T200000
DTSTAMP:20260419T162314
CREATED:20250221T091851Z
LAST-MODIFIED:20250705T071718Z
UID:23197-1751999400-1752004800@aed-ihedn.fr
SUMMARY:Rendez-vous d’Athéna #7: La réserve de défense (Industrie - Armement)
DESCRIPTION:La réserve de Défense (Industrie – Armement)\nAvec \nICA Patrick GRELIER \nDélégué aux réserves Armement \n  \nS'INSCRIRE EN VISIO \n  \nS'INSCRIRE EN PRÉSENTIEL
URL:https://aed-ihedn.fr/event/rendez-vous-dathena-5-la-reserve-operationnelle-industrielle/
LOCATION:Ecole Militaire ou en distanciel
CATEGORIES:Rendez-vous d'Athéna
ATTACH;FMTTYPE=image/png:https://aed-ihedn.fr/wp-content/uploads/2025/02/capture-decran-2025-07-05-a-09.13.51-scaled.png
END:VEVENT
END:VCALENDAR