BEGIN:VCALENDAR
VERSION:2.0
PRODID:-//AED/SNC-IHEDN - ECPv6.15.20//NONSGML v1.0//EN
CALSCALE:GREGORIAN
METHOD:PUBLISH
X-WR-CALNAME:AED/SNC-IHEDN
X-ORIGINAL-URL:https://aed-ihedn.fr
X-WR-CALDESC:Évènements pour AED/SNC-IHEDN
REFRESH-INTERVAL;VALUE=DURATION:PT1H
X-Robots-Tag:noindex
X-PUBLISHED-TTL:PT1H
BEGIN:VTIMEZONE
TZID:Europe/Paris
BEGIN:DAYLIGHT
TZOFFSETFROM:+0100
TZOFFSETTO:+0200
TZNAME:CEST
DTSTART:20250330T010000
END:DAYLIGHT
BEGIN:STANDARD
TZOFFSETFROM:+0200
TZOFFSETTO:+0100
TZNAME:CET
DTSTART:20251026T010000
END:STANDARD
BEGIN:DAYLIGHT
TZOFFSETFROM:+0100
TZOFFSETTO:+0200
TZNAME:CEST
DTSTART:20260329T010000
END:DAYLIGHT
BEGIN:STANDARD
TZOFFSETFROM:+0200
TZOFFSETTO:+0100
TZNAME:CET
DTSTART:20261025T010000
END:STANDARD
BEGIN:DAYLIGHT
TZOFFSETFROM:+0100
TZOFFSETTO:+0200
TZNAME:CEST
DTSTART:20270328T010000
END:DAYLIGHT
BEGIN:STANDARD
TZOFFSETFROM:+0200
TZOFFSETTO:+0100
TZNAME:CET
DTSTART:20271031T010000
END:STANDARD
END:VTIMEZONE
BEGIN:VEVENT
DTSTART;TZID=Europe/Paris:20260421T183000
DTEND;TZID=Europe/Paris:20260421T200000
DTSTAMP:20260421T115754
CREATED:20260219T090723Z
LAST-MODIFIED:20260416T164518Z
UID:26969-1776796200-1776801600@aed-ihedn.fr
SUMMARY:Rendez vous Athéna # 4 : Géopolitique & cyberespace
DESCRIPTION:Le cyberespace s’affirme comme le nouvel épicentre de la géopolitique mondiale. Entre cyberdéfense\, attaques numériques et manipulation de l’information\, États et acteurs non étatiques redessinent les contours de la souveraineté et des rapports de force. Dans ce monde hyperconnecté\, la maîtrise des technologies numériques devient un levier essentiel de pouvoir et d’influence au XXIᵉ siècle. \nConférencier: Martin UNTERSINGER ( Prix Albert Londres de 2024\, pour son livre « Espionner\, Mentir\, Détruire ») \n\nS'INSCRIRE EN PRÉSENTIEL\n–\nS'INSCRIRE EN VISIO-CONCONFÉRENCE
URL:https://aed-ihedn.fr/event/rendez-vous-athena-4-geopolitique-cyberespace/
LOCATION:Ecole Militaire ou en distanciel
CATEGORIES:Rendez-vous d'Athéna
ATTACH;FMTTYPE=image/png:https://aed-ihedn.fr/wp-content/uploads/2026/02/capture-decran-2026-04-16-a-18.42.45-scaled.png
END:VEVENT
END:VCALENDAR