BEGIN:VCALENDAR
VERSION:2.0
PRODID:-//AED/SNC-IHEDN - ECPv6.15.20//NONSGML v1.0//EN
CALSCALE:GREGORIAN
METHOD:PUBLISH
X-WR-CALNAME:AED/SNC-IHEDN
X-ORIGINAL-URL:https://aed-ihedn.fr
X-WR-CALDESC:Évènements pour AED/SNC-IHEDN
REFRESH-INTERVAL;VALUE=DURATION:PT1H
X-Robots-Tag:noindex
X-PUBLISHED-TTL:PT1H
BEGIN:VTIMEZONE
TZID:Europe/Paris
BEGIN:DAYLIGHT
TZOFFSETFROM:+0100
TZOFFSETTO:+0200
TZNAME:CEST
DTSTART:20250330T010000
END:DAYLIGHT
BEGIN:STANDARD
TZOFFSETFROM:+0200
TZOFFSETTO:+0100
TZNAME:CET
DTSTART:20251026T010000
END:STANDARD
BEGIN:DAYLIGHT
TZOFFSETFROM:+0100
TZOFFSETTO:+0200
TZNAME:CEST
DTSTART:20260329T010000
END:DAYLIGHT
BEGIN:STANDARD
TZOFFSETFROM:+0200
TZOFFSETTO:+0100
TZNAME:CET
DTSTART:20261025T010000
END:STANDARD
BEGIN:DAYLIGHT
TZOFFSETFROM:+0100
TZOFFSETTO:+0200
TZNAME:CEST
DTSTART:20270328T010000
END:DAYLIGHT
BEGIN:STANDARD
TZOFFSETFROM:+0200
TZOFFSETTO:+0100
TZNAME:CET
DTSTART:20271031T010000
END:STANDARD
END:VTIMEZONE
BEGIN:VEVENT
DTSTART;TZID=Europe/Paris:20260624T183000
DTEND;TZID=Europe/Paris:20260624T200000
DTSTAMP:20260423T152343
CREATED:20260227T092126Z
LAST-MODIFIED:20260422T071201Z
UID:27099-1782325800-1782331200@aed-ihedn.fr
SUMMARY:Rendez-vous d'Athéna #6: Financements européens
DESCRIPTION:Couplé avec fin de sessions SERA 2026 \nConférencier: Pierre-Marie LECAT ( Ingénieur en Chef de l’Armement\, chargé de mission Union Européenne auprès du directeur de la direction internationale de la coopération et de l’export) \nS'INSCRIRE EN PRÉSENTIEL\n–\nS'INSCRIRE EN VISIO-CONCONFÉRENCE
URL:https://aed-ihedn.fr/event/rendez-vous-dathena-6-financements-europeens-couple-avec-sera/
LOCATION:Ecole Militaire ou en distanciel
CATEGORIES:Rendez-vous d'Athéna
ATTACH;FMTTYPE=image/png:https://aed-ihedn.fr/wp-content/uploads/2026/02/capture-decran-2026-04-22-a-08.43.15-scaled.png
END:VEVENT
END:VCALENDAR