BEGIN:VCALENDAR
VERSION:2.0
PRODID:-//AED/SNC-IHEDN - ECPv6.15.20//NONSGML v1.0//EN
CALSCALE:GREGORIAN
METHOD:PUBLISH
X-WR-CALNAME:AED/SNC-IHEDN
X-ORIGINAL-URL:https://aed-ihedn.fr
X-WR-CALDESC:Évènements pour AED/SNC-IHEDN
REFRESH-INTERVAL;VALUE=DURATION:PT1H
X-Robots-Tag:noindex
X-PUBLISHED-TTL:PT1H
BEGIN:VTIMEZONE
TZID:Europe/Paris
BEGIN:DAYLIGHT
TZOFFSETFROM:+0100
TZOFFSETTO:+0200
TZNAME:CEST
DTSTART:20230326T010000
END:DAYLIGHT
BEGIN:STANDARD
TZOFFSETFROM:+0200
TZOFFSETTO:+0100
TZNAME:CET
DTSTART:20231029T010000
END:STANDARD
BEGIN:DAYLIGHT
TZOFFSETFROM:+0100
TZOFFSETTO:+0200
TZNAME:CEST
DTSTART:20240331T010000
END:DAYLIGHT
BEGIN:STANDARD
TZOFFSETFROM:+0200
TZOFFSETTO:+0100
TZNAME:CET
DTSTART:20241027T010000
END:STANDARD
BEGIN:DAYLIGHT
TZOFFSETFROM:+0100
TZOFFSETTO:+0200
TZNAME:CEST
DTSTART:20250330T010000
END:DAYLIGHT
BEGIN:STANDARD
TZOFFSETFROM:+0200
TZOFFSETTO:+0100
TZNAME:CET
DTSTART:20251026T010000
END:STANDARD
END:VTIMEZONE
BEGIN:VEVENT
DTSTART;TZID=Europe/Paris:20241220T200000
DTEND;TZID=Europe/Paris:20241220T213000
DTSTAMP:20260423T115727
CREATED:20241108T173645Z
LAST-MODIFIED:20250105T113900Z
UID:21588-1734724800-1734730200@aed-ihedn.fr
SUMMARY:Rendez-vous d'Athéna #10: Perspectives des activités spatiales et enjeux de la protection du Centre spatial guyanais
DESCRIPTION:Les futures activités spatiales et l’accompagnement nécessaire en termes de sécurité. Nécessité d’adapter les dispositifs existants pour sécuriser les nouvelles activités au-delà de ce qui existe déjà ? \nIntervenants: \nJérôme VILA ( Deputy CEO & CPO de la start-up MAIA-SPACE). \nGénéral Marc LE BOUIL (Commandant Supérieur des Forces Armées de Guyane – membre d’honneur de l’Ihedn Guyane) \n  \nS'INSCRIRE EN VISIO-CONFÉRENCE \n  \nVendredi 20 Décembre 2024 en Visio-Conférence à partir de:\n=> 16h00 à Cayenne;\n=> 20h00 à Paris.
URL:https://aed-ihedn.fr/event/rendez-vous-dathena-10-les-futures-activites-spatiales-et-laccompagnement-necessaire-en-termes-de-securite/
LOCATION:Ecole Militaire ou en distanciel
CATEGORIES:Rendez-vous d'Athéna,Table Ronde
ATTACH;FMTTYPE=image/png:https://aed-ihedn.fr/wp-content/uploads/2024/12/capture-decran-2024-12-02-a-09.46.07.png
END:VEVENT
END:VCALENDAR