BEGIN:VCALENDAR
VERSION:2.0
PRODID:-//AED/SNC-IHEDN - ECPv6.15.20//NONSGML v1.0//EN
CALSCALE:GREGORIAN
METHOD:PUBLISH
X-ORIGINAL-URL:https://aed-ihedn.fr
X-WR-CALDESC:Évènements pour AED/SNC-IHEDN
REFRESH-INTERVAL;VALUE=DURATION:PT1H
X-Robots-Tag:noindex
X-PUBLISHED-TTL:PT1H
BEGIN:VTIMEZONE
TZID:Europe/Paris
BEGIN:DAYLIGHT
TZOFFSETFROM:+0100
TZOFFSETTO:+0200
TZNAME:CEST
DTSTART:20210328T010000
END:DAYLIGHT
BEGIN:STANDARD
TZOFFSETFROM:+0200
TZOFFSETTO:+0100
TZNAME:CET
DTSTART:20211031T010000
END:STANDARD
BEGIN:DAYLIGHT
TZOFFSETFROM:+0100
TZOFFSETTO:+0200
TZNAME:CEST
DTSTART:20220327T010000
END:DAYLIGHT
BEGIN:STANDARD
TZOFFSETFROM:+0200
TZOFFSETTO:+0100
TZNAME:CET
DTSTART:20221030T010000
END:STANDARD
BEGIN:DAYLIGHT
TZOFFSETFROM:+0100
TZOFFSETTO:+0200
TZNAME:CEST
DTSTART:20230326T010000
END:DAYLIGHT
BEGIN:STANDARD
TZOFFSETFROM:+0200
TZOFFSETTO:+0100
TZNAME:CET
DTSTART:20231029T010000
END:STANDARD
END:VTIMEZONE
BEGIN:VEVENT
DTSTART;TZID=Europe/Paris:20220614T150000
DTEND;TZID=Europe/Paris:20220614T160000
DTSTAMP:20260425T150314
CREATED:20220819T151345Z
LAST-MODIFIED:20240319T095118Z
UID:10236-1655218800-1655222400@aed-ihedn.fr
SUMMARY:Eurosatory 2022 : “Finance & Defense : How to support European Strategic Sovereignty” (table ronde)
DESCRIPTION:3AED-IHEDN sera présente lors d’Eurosatory 2022\, le mondial de la défense et de la sécurité qui se tiendra du 13 au 17 juin. \nÀ cette occasion\, retrouvez-nous pour la table ronde : \nComment coordonner le Fonds d’investissement OTAN\, FED et Capital Risque\npour soutenir la souveraineté stratégique européenne ?\nJeudi 20 juin 2023\nà partir de 15h00\nParc des Expositions de Paris Nord Villepinte \nAnimation de la table ronde par\nDamien Conce\,\nmembre de 3AED-IHEDN\nCEO & Founder Almace \nAvec la participation de : \nLisa Antoine\nEU Policy Officer at European Commission – DG DEFIS \nPaul Bougnoux\nCEO & Founder Larguillière Finance \n\n \n  \nAvec la crise en Ukraine\, le réel a violemment percuté un écosystème financier européen qui s’orientait vers une finance durable\, hostile aux industries de défense. \nMalgré le réveil brutal causé par la guerre en Ukraine\, les besoins des PME / ETI de défense demeurent mal appréhendés par le marché. Dans ce cadre\, la perte de l’innocence européenne est-elle l’aube d’un nouvel âge ? \nLa conférence se tiendra en anglais. \nRetrouvez le programme des conférences d’Eurosatory ici.
URL:https://aed-ihedn.fr/event/eurosatory-2022-finance-defense-how-to-support-european-strategic-sovereignty-table-ronde/
LOCATION:Parc des Expositions de Paris Nord Villepinte\, Paris\, France
CATEGORIES:Partenaires
ATTACH;FMTTYPE=image/png:https://aed-ihedn.fr/wp-content/uploads/2022/06/3AED-IHEDN_template_vie-asso-3.png
END:VEVENT
BEGIN:VEVENT
DTSTART;VALUE=DATE:20220615
DTEND;VALUE=DATE:20220616
DTSTAMP:20260425T150314
CREATED:20220615T090612Z
LAST-MODIFIED:20230129T212746Z
UID:12765-1655251200-1655337599@aed-ihedn.fr
SUMMARY:Eurosatory 2022 : “Climate change: which Challenges for Defense Industry in Europe?” (table ronde)
DESCRIPTION:3AED-IHEDN était présente lors d’Eurosatory 2022\, le mondial de la défense et de la sécurité qui s’est tenu du 13 au 17 juin. À cette occasion\, l’association a animé une table ronde\, en présence d’experts de haut niveau.\n\nClimate change:\nwhich Challenges for Defense Industry in Europe?\nAnimation de la table ronde par\nValérie Bertheau\,\nprésidente de 3AED-IHEDN \nAvec la participation de : \nAlain Alexis\,\nAdvisor DG Defence & Space\, European Commission \nChristian Jacques\,\nDirector of Innovation\, Arquus Defense \nBruno Delacourte\,\nMarketing & Product Policy Director\, Thales \nFrançois Reptin\,\nDGA / Project Engineering / Eco-design expert \n\n\n\n____\n\n\n\n\n\n \n\n\n\n➡️ Retrouvez le replay de cette conférence ici.\n➡️ Retour en images sur cette table ronde ici.\n➡️ Retrouvez le programme des conférences d’Eurosatory ici.\n\n\n____\n\nCovid Pandemic focused public attention on their domestic resilience and the unexpected weakness of globalized supply chain. In addition\, the rise of high intensity conflicts throughout the world together with the use of hybrid weapons seems to blur the perception of a peaceful future for an increased part of population.\nHowever\, Climate change concerns and sustainable finance regulations still have a growing impact on security issues.\n\n\nTherefore\, under which condition could climate change be an opportunity for the Defense Industry?\n\n\nDuring the panel\, the following topics will be addressed:\n\nWhat are the implications of climate change for your company and institution?\nWhat are challenges for defense industry in Europe when applying eco-design principles?\nIn the new regulatory context (international\, European\, national..)\, which impact for the future of European defense industry?\n\n\n 
URL:https://aed-ihedn.fr/event/eurosatory-2022-climate-change-which-challenges-for-defense-industry-in-europe-table-ronde/
LOCATION:Parc des expositions Paris Le Bourget\, Carrefour Charles Lindbergh\, Le Bourget\, 93350\, France
CATEGORIES:Partenaires
ATTACH;FMTTYPE=image/png:https://aed-ihedn.fr/wp-content/uploads/2022/06/3AED-IHEDN_template_vie-asso-4.png
ORGANIZER;CN="AED-IHEDN":MAILTO:communication@aed-ihedn.fr
END:VEVENT
END:VCALENDAR