BEGIN:VCALENDAR
VERSION:2.0
PRODID:-//AED/SNC-IHEDN - ECPv6.15.20//NONSGML v1.0//EN
CALSCALE:GREGORIAN
METHOD:PUBLISH
X-ORIGINAL-URL:https://aed-ihedn.fr
X-WR-CALDESC:Évènements pour AED/SNC-IHEDN
REFRESH-INTERVAL;VALUE=DURATION:PT1H
X-Robots-Tag:noindex
X-PUBLISHED-TTL:PT1H
BEGIN:VTIMEZONE
TZID:Europe/Paris
BEGIN:DAYLIGHT
TZOFFSETFROM:+0100
TZOFFSETTO:+0200
TZNAME:CEST
DTSTART:20210328T010000
END:DAYLIGHT
BEGIN:STANDARD
TZOFFSETFROM:+0200
TZOFFSETTO:+0100
TZNAME:CET
DTSTART:20211031T010000
END:STANDARD
BEGIN:DAYLIGHT
TZOFFSETFROM:+0100
TZOFFSETTO:+0200
TZNAME:CEST
DTSTART:20220327T010000
END:DAYLIGHT
BEGIN:STANDARD
TZOFFSETFROM:+0200
TZOFFSETTO:+0100
TZNAME:CET
DTSTART:20221030T010000
END:STANDARD
BEGIN:DAYLIGHT
TZOFFSETFROM:+0100
TZOFFSETTO:+0200
TZNAME:CEST
DTSTART:20230326T010000
END:DAYLIGHT
BEGIN:STANDARD
TZOFFSETFROM:+0200
TZOFFSETTO:+0100
TZNAME:CET
DTSTART:20231029T010000
END:STANDARD
END:VTIMEZONE
BEGIN:VEVENT
DTSTART;TZID=Europe/Paris:20221122T183000
DTEND;TZID=Europe/Paris:20221122T200000
DTSTAMP:20260421T165128
CREATED:20220707T123725Z
LAST-MODIFIED:20221205T174912Z
UID:7978-1669141800-1669147200@aed-ihedn.fr
SUMMARY:Rendez-vous d'Athéna #8 | Les conséquences économiques du conflit Ukrainien : vers l’émergence de l’économie militaire
DESCRIPTION:Avec \nDr. Grégory Chigolet\nContrôleur adjoint des Armées Paul La Combe \nMardi 22 novembre 2022\nà partir de 18h30 \n* Inscriptions closes * \n  \nLes conséquences de la guerre en Ukraine se font durement sentir pour les pays occidentaux (envolée des prix\, pénuries\, perte de croissance\, etc.) tandis que les effets sur l’économie russe demeurent incertains. Si l’arme économique\, cherchant à contraindre un adversaire à changer d’attitude\, a largement été employée à travers les âges (y compris en association avec des opérations militaires)\, son usage n’a fait l’objet de quasiment aucune théorisation. Les responsables se trouvent dès lors démunis pour décrypter la situation actuelle et sont contraints d’écouter des opinions plus que des analyses scientifiques. \nFort de ce constat\, les intervenants ont développé le cadre conceptuel de l’économie militaire qu’ils se proposent d’exposer et à partir duquel ils examinent les conséquences économiques du conflit ukrainien. \nNos intervenants :\nDr. Grégory Chigolet \nDiplômé en mathématique de la faculté des sciences d’Orsay et titulaire d’un master de science politique\, Grégory Chigolet est docteur en science économique de l’Université Paris I ou il a soutenu une thèse portant sur l’homologie entre la théorie de l’équilibre général et les systèmes de planification optimaux. Après avoir enseigné la microéconomie et l’algèbre linéaire à l’université puis en école supérieure de gestion\, Grégory Chigolet a exercé les fonctions d’adjoint au chef du bureau pilotage des ressources de la DRH de l’armée de l’Air et travaille actuellement à l’Etat-major des armées. \nContrôleur adjoint des Armées Paul La Combe \nDiplômé de l’école militaire de Saint-Cyr\, de l’Institut d’Etudes politiques de Bordeaux ainsi que de l’ESCP Business School\, Paul la Combe a effectué une première partie de carrière au sein de l’armée de terre (cavalerie et OTAN). Breveté de l’école de guerre\, Paul la Combe a rejoint le Contrôle général des armées en 2022. \n Consulter le dossier sur l’Ukraine.\n Consulter la programmation des Rendez-vous d’Athéna pour l’année 2022-2023.
URL:https://aed-ihedn.fr/event/rendez-vous-athena-consequences-economiques-conflit-ukrainien-economie-militaire/
CATEGORIES:Rendez-vous d'Athéna
ATTACH;FMTTYPE=image/png:https://aed-ihedn.fr/wp-content/uploads/2022/10/3AED-IHEDN_RDV8.png
ORGANIZER;CN="AED-IHEDN":MAILTO:communication@aed-ihedn.fr
END:VEVENT
END:VCALENDAR